BEGIN:VCALENDAR
VERSION:2.0
PRODID:-//machovetepotvdnes.com//Football TV Calendar//BG
CALSCALE:GREGORIAN
METHOD:PUBLISH
BEGIN:VEVENT
DTSTART:20260429T180000Z
DTEND:20260429T200000Z
SUMMARY:Ал Насър - Ал Ахли Джеда
DESCRIPTION:\nПо ТВ: MAX Sport 4\nhttps://machovetepotvdnes.com/match/al-nasar-vs-al-ahli-dzheda-2026-04-29
URL:https://machovetepotvdnes.com/match/al-nasar-vs-al-ahli-dzheda-2026-04-29
UID:match-al-nasar-vs-al-ahli-dzheda-2026-04-29@machovetepotvdnes.com
STATUS:CONFIRMED
END:VEVENT
END:VCALENDAR
