BEGIN:VCALENDAR
VERSION:2.0
PRODID:-//machovetepotvdnes.com//Football TV Calendar//BG
CALSCALE:GREGORIAN
METHOD:PUBLISH
BEGIN:VEVENT
DTSTART:20260425T120000Z
DTEND:20260425T140000Z
SUMMARY:Алавес - Майорка
DESCRIPTION:\nПо ТВ: MAX Sport 4\nhttps://machovetepotvdnes.com/match/alaves-vs-mayorka-2026-04-25
URL:https://machovetepotvdnes.com/match/alaves-vs-mayorka-2026-04-25
UID:match-alaves-vs-mayorka-2026-04-25@machovetepotvdnes.com
STATUS:CONFIRMED
END:VEVENT
END:VCALENDAR
