BEGIN:VCALENDAR
VERSION:2.0
PRODID:-//machovetepotvdnes.com//Football TV Calendar//BG
CALSCALE:GREGORIAN
METHOD:PUBLISH
BEGIN:VEVENT
DTSTART:20260429T190000Z
DTEND:20260429T210000Z
SUMMARY:Атлетико Мадрид - Арсенал
DESCRIPTION:\nПо ТВ: bTV Action\nhttps://machovetepotvdnes.com/match/atletiko-madrid-vs-arsenal-2026-04-29
URL:https://machovetepotvdnes.com/match/atletiko-madrid-vs-arsenal-2026-04-29
UID:match-atletiko-madrid-vs-arsenal-2026-04-29@machovetepotvdnes.com
STATUS:CONFIRMED
END:VEVENT
END:VCALENDAR
