BEGIN:VCALENDAR
VERSION:2.0
PRODID:-//machovetepotvdnes.com//Football TV Calendar//BG
CALSCALE:GREGORIAN
METHOD:PUBLISH
BEGIN:VEVENT
DTSTART:20260425T190000Z
DTEND:20260425T210000Z
SUMMARY:Атлетико Мадрид - Атлетик Билбао
DESCRIPTION:\nПо ТВ: MAX Sport 4\nhttps://machovetepotvdnes.com/match/atletiko-madrid-vs-atletik-bilbao-2026-04-25
URL:https://machovetepotvdnes.com/match/atletiko-madrid-vs-atletik-bilbao-2026-04-25
UID:match-atletiko-madrid-vs-atletik-bilbao-2026-04-25@machovetepotvdnes.com
STATUS:CONFIRMED
END:VEVENT
END:VCALENDAR
