BEGIN:VCALENDAR
VERSION:2.0
PRODID:-//machovetepotvdnes.com//Football TV Calendar//BG
CALSCALE:GREGORIAN
METHOD:PUBLISH
BEGIN:VEVENT
DTSTART:20260424T190000Z
DTEND:20260424T210000Z
SUMMARY:Бетис - Реал Мадрид
DESCRIPTION:\nПо ТВ: MAX Sport 4\nhttps://machovetepotvdnes.com/match/betis-vs-real-madrid-2026-04-24
URL:https://machovetepotvdnes.com/match/betis-vs-real-madrid-2026-04-24
UID:match-betis-vs-real-madrid-2026-04-24@machovetepotvdnes.com
STATUS:CONFIRMED
END:VEVENT
END:VCALENDAR
