BEGIN:VCALENDAR
VERSION:2.0
PRODID:-//machovetepotvdnes.com//Football TV Calendar//BG
CALSCALE:GREGORIAN
METHOD:PUBLISH
BEGIN:VEVENT
DTSTART:20260426T153000Z
DTEND:20260426T173000Z
SUMMARY:Борусия Дортмунд - Фрайбург
DESCRIPTION:\nПо ТВ: Diema Sport 3\nhttps://machovetepotvdnes.com/match/borusiya-dortmund-vs-frayburg-2026-04-26
URL:https://machovetepotvdnes.com/match/borusiya-dortmund-vs-frayburg-2026-04-26
UID:match-borusiya-dortmund-vs-frayburg-2026-04-26@machovetepotvdnes.com
STATUS:CONFIRMED
END:VEVENT
END:VCALENDAR
