BEGIN:VCALENDAR
VERSION:2.0
PRODID:-//machovetepotvdnes.com//Football TV Calendar//BG
CALSCALE:GREGORIAN
METHOD:PUBLISH
BEGIN:VEVENT
DTSTART:20260425T183000Z
DTEND:20260425T203000Z
SUMMARY:Дармщат - Елверсберг
DESCRIPTION:\nПо ТВ: Diema Sport\nhttps://machovetepotvdnes.com/match/darmshtat-vs-elversberg-2026-04-25
URL:https://machovetepotvdnes.com/match/darmshtat-vs-elversberg-2026-04-25
UID:match-darmshtat-vs-elversberg-2026-04-25@machovetepotvdnes.com
STATUS:CONFIRMED
END:VEVENT
END:VCALENDAR
