BEGIN:VCALENDAR
VERSION:2.0
PRODID:-//machovetepotvdnes.com//Football TV Calendar//BG
CALSCALE:GREGORIAN
METHOD:PUBLISH
BEGIN:VEVENT
DTSTART:20260427T190000Z
DTEND:20260427T210000Z
SUMMARY:Еспаньол - Леванте
DESCRIPTION:\nПо ТВ: MAX Sport 4\nhttps://machovetepotvdnes.com/match/espanol-vs-levante-2026-04-27
URL:https://machovetepotvdnes.com/match/espanol-vs-levante-2026-04-27
UID:match-espanol-vs-levante-2026-04-27@machovetepotvdnes.com
STATUS:CONFIRMED
END:VEVENT
END:VCALENDAR
