BEGIN:VCALENDAR
VERSION:2.0
PRODID:-//machovetepotvdnes.com//Football TV Calendar//BG
CALSCALE:GREGORIAN
METHOD:PUBLISH
BEGIN:VEVENT
DTSTART:20260427T183000Z
DTEND:20260427T203000Z
SUMMARY:Кадис - Лас Палмас
DESCRIPTION:\nПо ТВ: MAX Sport 2\nhttps://machovetepotvdnes.com/match/kadis-vs-las-palmas-2026-04-27
URL:https://machovetepotvdnes.com/match/kadis-vs-las-palmas-2026-04-27
UID:match-kadis-vs-las-palmas-2026-04-27@machovetepotvdnes.com
STATUS:CONFIRMED
END:VEVENT
END:VCALENDAR
