BEGIN:VCALENDAR
VERSION:2.0
PRODID:-//machovetepotvdnes.com//Football TV Calendar//BG
CALSCALE:GREGORIAN
METHOD:PUBLISH
BEGIN:VEVENT
DTSTART:20260425T110000Z
DTEND:20260425T130000Z
SUMMARY:Карлсруе - Хановер 96
DESCRIPTION:\nПо ТВ: Diema Sport 3\nhttps://machovetepotvdnes.com/match/karlsrue-vs-hanover-96-2026-04-25
URL:https://machovetepotvdnes.com/match/karlsrue-vs-hanover-96-2026-04-25
UID:match-karlsrue-vs-hanover-96-2026-04-25@machovetepotvdnes.com
STATUS:CONFIRMED
END:VEVENT
END:VCALENDAR
