BEGIN:VCALENDAR
VERSION:2.0
PRODID:-//machovetepotvdnes.com//Football TV Calendar//BG
CALSCALE:GREGORIAN
METHOD:PUBLISH
BEGIN:VEVENT
DTSTART:20260424T163000Z
DTEND:20260424T183000Z
SUMMARY:Кайзерслаутерн - Айнтрахт Брауншвайг
DESCRIPTION:\nПо ТВ: Diema Sport 3\nhttps://machovetepotvdnes.com/match/kayzerslautern-vs-ayntraht-braunshvayg-2026-04-24
URL:https://machovetepotvdnes.com/match/kayzerslautern-vs-ayntraht-braunshvayg-2026-04-24
UID:match-kayzerslautern-vs-ayntraht-braunshvayg-2026-04-24@machovetepotvdnes.com
STATUS:CONFIRMED
END:VEVENT
END:VCALENDAR
