BEGIN:VCALENDAR
VERSION:2.0
PRODID:-//machovetepotvdnes.com//Football TV Calendar//BG
CALSCALE:GREGORIAN
METHOD:PUBLISH
BEGIN:VEVENT
DTSTART:20260425T133000Z
DTEND:20260425T153000Z
SUMMARY:Кьолн - Байер Леверкузен
DESCRIPTION:\nПо ТВ: Play Diema Xtra\nhttps://machovetepotvdnes.com/match/koln-vs-bayer-leverkuzen-2026-04-25
URL:https://machovetepotvdnes.com/match/koln-vs-bayer-leverkuzen-2026-04-25
UID:match-koln-vs-bayer-leverkuzen-2026-04-25@machovetepotvdnes.com
STATUS:CONFIRMED
END:VEVENT
END:VCALENDAR
