BEGIN:VCALENDAR
VERSION:2.0
PRODID:-//machovetepotvdnes.com//Football TV Calendar//BG
CALSCALE:GREGORIAN
METHOD:PUBLISH
BEGIN:VEVENT
DTSTART:20260426T110000Z
DTEND:20260426T130000Z
SUMMARY:Ковънтри - Рексъм
DESCRIPTION:\nПо ТВ: Diema Sport 2\nhttps://machovetepotvdnes.com/match/kovantri-vs-reksam-2026-04-26
URL:https://machovetepotvdnes.com/match/kovantri-vs-reksam-2026-04-26
UID:match-kovantri-vs-reksam-2026-04-26@machovetepotvdnes.com
STATUS:CONFIRMED
END:VEVENT
END:VCALENDAR
