BEGIN:VCALENDAR
VERSION:2.0
PRODID:-//machovetepotvdnes.com//Football TV Calendar//BG
CALSCALE:GREGORIAN
METHOD:PUBLISH
BEGIN:VEVENT
DTSTART:20260425T140000Z
DTEND:20260425T160000Z
SUMMARY:КПР - Дарби Каунти
DESCRIPTION:\nПо ТВ: Play Diema Xtra\nhttps://machovetepotvdnes.com/match/kpr-vs-darbi-kaunti-2026-04-25
URL:https://machovetepotvdnes.com/match/kpr-vs-darbi-kaunti-2026-04-25
UID:match-kpr-vs-darbi-kaunti-2026-04-25@machovetepotvdnes.com
STATUS:CONFIRMED
END:VEVENT
END:VCALENDAR
