BEGIN:VCALENDAR
VERSION:2.0
PRODID:-//machovetepotvdnes.com//Football TV Calendar//BG
CALSCALE:GREGORIAN
METHOD:PUBLISH
BEGIN:VEVENT
DTSTART:20260428T220000Z
DTEND:20260429T000000Z
SUMMARY:Ланус - ЛДУ Кито
DESCRIPTION:\nПо ТВ: MAX Sport 4\nhttps://machovetepotvdnes.com/match/lanus-vs-ldu-kito-2026-04-29
URL:https://machovetepotvdnes.com/match/lanus-vs-ldu-kito-2026-04-29
UID:match-lanus-vs-ldu-kito-2026-04-29@machovetepotvdnes.com
STATUS:CONFIRMED
END:VEVENT
END:VCALENDAR
