BEGIN:VCALENDAR
VERSION:2.0
PRODID:-//machovetepotvdnes.com//Football TV Calendar//BG
CALSCALE:GREGORIAN
METHOD:PUBLISH
BEGIN:VEVENT
DTSTART:20260427T184500Z
DTEND:20260427T204500Z
SUMMARY:Лацио - Удинезе
DESCRIPTION:\nПо ТВ: MAX Sport 3\nhttps://machovetepotvdnes.com/match/latsio-vs-udineze-2026-04-27
URL:https://machovetepotvdnes.com/match/latsio-vs-udineze-2026-04-27
UID:match-latsio-vs-udineze-2026-04-27@machovetepotvdnes.com
STATUS:CONFIRMED
END:VEVENT
END:VCALENDAR
