BEGIN:VCALENDAR
VERSION:2.0
PRODID:-//machovetepotvdnes.com//Football TV Calendar//BG
CALSCALE:GREGORIAN
METHOD:PUBLISH
BEGIN:VEVENT
DTSTART:20260421T184500Z
DTEND:20260421T204500Z
SUMMARY:Лестър - Хъл Сити
DESCRIPTION:\nПо ТВ: Diema Sport 3\nhttps://machovetepotvdnes.com/match/lestar-vs-hal-siti-2026-04-21
URL:https://machovetepotvdnes.com/match/lestar-vs-hal-siti-2026-04-21
UID:match-lestar-vs-hal-siti-2026-04-21@machovetepotvdnes.com
STATUS:CONFIRMED
END:VEVENT
END:VCALENDAR
