BEGIN:VCALENDAR
VERSION:2.0
PRODID:-//machovetepotvdnes.com//Football TV Calendar//BG
CALSCALE:GREGORIAN
METHOD:PUBLISH
BEGIN:VEVENT
DTSTART:20260424T190000Z
DTEND:20260424T210000Z
SUMMARY:Лестър - Милуол
DESCRIPTION:\nПо ТВ: Nova Sport\nhttps://machovetepotvdnes.com/match/lestar-vs-miluol-2026-04-24
URL:https://machovetepotvdnes.com/match/lestar-vs-miluol-2026-04-24
UID:match-lestar-vs-miluol-2026-04-24@machovetepotvdnes.com
STATUS:CONFIRMED
END:VEVENT
END:VCALENDAR
