BEGIN:VCALENDAR
VERSION:2.0
PRODID:-//machovetepotvdnes.com//Football TV Calendar//BG
CALSCALE:GREGORIAN
METHOD:PUBLISH
BEGIN:VEVENT
DTSTART:20260425T140000Z
DTEND:20260425T160000Z
SUMMARY:Ливърпул - Кристъл Палас
DESCRIPTION:\nПо ТВ: Diema Sport 2\nhttps://machovetepotvdnes.com/match/livarpul-vs-kristal-palas-2026-04-25
URL:https://machovetepotvdnes.com/match/livarpul-vs-kristal-palas-2026-04-25
UID:match-livarpul-vs-kristal-palas-2026-04-25@machovetepotvdnes.com
STATUS:CONFIRMED
END:VEVENT
END:VCALENDAR
