BEGIN:VCALENDAR
VERSION:2.0
PRODID:-//machovetepotvdnes.com//Football TV Calendar//BG
CALSCALE:GREGORIAN
METHOD:PUBLISH
BEGIN:VEVENT
DTSTART:20260427T170000Z
DTEND:20260427T190000Z
SUMMARY:Локомотив (София) - Септември
DESCRIPTION:\nПо ТВ: Diema Sport\nhttps://machovetepotvdnes.com/match/lokomotiv-sofiya-vs-septemvri-2026-04-27
URL:https://machovetepotvdnes.com/match/lokomotiv-sofiya-vs-septemvri-2026-04-27
UID:match-lokomotiv-sofiya-vs-septemvri-2026-04-27@machovetepotvdnes.com
STATUS:CONFIRMED
END:VEVENT
END:VCALENDAR
