BEGIN:VCALENDAR
VERSION:2.0
PRODID:-//machovetepotvdnes.com//Football TV Calendar//BG
CALSCALE:GREGORIAN
METHOD:PUBLISH
BEGIN:VEVENT
DTSTART:20260426T130000Z
DTEND:20260426T150000Z
SUMMARY:Лориен - Страсбург
DESCRIPTION:\nПо ТВ: Nova Sport\nhttps://machovetepotvdnes.com/match/lorien-vs-strasburg-2026-04-26
URL:https://machovetepotvdnes.com/match/lorien-vs-strasburg-2026-04-26
UID:match-lorien-vs-strasburg-2026-04-26@machovetepotvdnes.com
STATUS:CONFIRMED
END:VEVENT
END:VCALENDAR
