BEGIN:VCALENDAR
VERSION:2.0
PRODID:-//machovetepotvdnes.com//Football TV Calendar//BG
CALSCALE:GREGORIAN
METHOD:PUBLISH
BEGIN:VEVENT
DTSTART:20260426T230000Z
DTEND:20260427T010000Z
SUMMARY:Лос Анджелис Галакси - Реал Солт Лейк
DESCRIPTION:\nПо ТВ: MAX Sport 4\nhttps://machovetepotvdnes.com/match/los-andzhelis-galaksi-vs-real-solt-leyk-2026-04-27
URL:https://machovetepotvdnes.com/match/los-andzhelis-galaksi-vs-real-solt-leyk-2026-04-27
UID:match-los-andzhelis-galaksi-vs-real-solt-leyk-2026-04-27@machovetepotvdnes.com
STATUS:CONFIRMED
END:VEVENT
END:VCALENDAR
