BEGIN:VCALENDAR
VERSION:2.0
PRODID:-//machovetepotvdnes.com//Football TV Calendar//BG
CALSCALE:GREGORIAN
METHOD:PUBLISH
BEGIN:VEVENT
DTSTART:20260421T161500Z
DTEND:20260421T181500Z
SUMMARY:Мачида Зелвия - Шабаб Ал Ахли Дубай
DESCRIPTION:\nПо ТВ: Nova Sport\nhttps://machovetepotvdnes.com/match/machida-zelviya-vs-shabab-al-ahli-dubay-2026-04-21
URL:https://machovetepotvdnes.com/match/machida-zelviya-vs-shabab-al-ahli-dubay-2026-04-21
UID:match-machida-zelviya-vs-shabab-al-ahli-dubay-2026-04-21@machovetepotvdnes.com
STATUS:CONFIRMED
END:VEVENT
END:VCALENDAR
