BEGIN:VCALENDAR
VERSION:2.0
PRODID:-//machovetepotvdnes.com//Football TV Calendar//BG
CALSCALE:GREGORIAN
METHOD:PUBLISH
BEGIN:VEVENT
DTSTART:20260427T190000Z
DTEND:20260427T210000Z
SUMMARY:Манчестър Юнайтед - Брентфорд
DESCRIPTION:\nПо ТВ: Diema Sport 2\nhttps://machovetepotvdnes.com/match/manchestar-yunayted-vs-brentford-2026-04-27
URL:https://machovetepotvdnes.com/match/manchestar-yunayted-vs-brentford-2026-04-27
UID:match-manchestar-yunayted-vs-brentford-2026-04-27@machovetepotvdnes.com
STATUS:CONFIRMED
END:VEVENT
END:VCALENDAR
