BEGIN:VCALENDAR
VERSION:2.0
PRODID:-//machovetepotvdnes.com//Football TV Calendar//BG
CALSCALE:GREGORIAN
METHOD:PUBLISH
BEGIN:VEVENT
DTSTART:20260425T133000Z
DTEND:20260425T153000Z
SUMMARY:Майнц 05 - Байерн Мюнхен
DESCRIPTION:\nПо ТВ: Diema Sport 3\nhttps://machovetepotvdnes.com/match/maynts-05-vs-bayern-myunhen-2026-04-25
URL:https://machovetepotvdnes.com/match/maynts-05-vs-bayern-myunhen-2026-04-25
UID:match-maynts-05-vs-bayern-myunhen-2026-04-25@machovetepotvdnes.com
STATUS:CONFIRMED
END:VEVENT
END:VCALENDAR
