BEGIN:VCALENDAR
VERSION:2.0
PRODID:-//machovetepotvdnes.com//Football TV Calendar//BG
CALSCALE:GREGORIAN
METHOD:PUBLISH
BEGIN:VEVENT
DTSTART:20260427T143000Z
DTEND:20260427T163000Z
SUMMARY:Монтана - Добруджа
DESCRIPTION:\nПо ТВ: Diema Sport\nhttps://machovetepotvdnes.com/match/montana-vs-dobrudzha-2026-04-27
URL:https://machovetepotvdnes.com/match/montana-vs-dobrudzha-2026-04-27
UID:match-montana-vs-dobrudzha-2026-04-27@machovetepotvdnes.com
STATUS:CONFIRMED
END:VEVENT
END:VCALENDAR
