BEGIN:VCALENDAR
VERSION:2.0
PRODID:-//machovetepotvdnes.com//Football TV Calendar//BG
CALSCALE:GREGORIAN
METHOD:PUBLISH
BEGIN:VEVENT
DTSTART:20260424T184500Z
DTEND:20260424T204500Z
SUMMARY:Наполи - Кремонезе
DESCRIPTION:\nПо ТВ: MAX Sport 3\nhttps://machovetepotvdnes.com/match/napoli-vs-kremoneze-2026-04-24
URL:https://machovetepotvdnes.com/match/napoli-vs-kremoneze-2026-04-24
UID:match-napoli-vs-kremoneze-2026-04-24@machovetepotvdnes.com
STATUS:CONFIRMED
END:VEVENT
END:VCALENDAR
