BEGIN:VCALENDAR
VERSION:2.0
PRODID:-//machovetepotvdnes.com//Football TV Calendar//BG
CALSCALE:GREGORIAN
METHOD:PUBLISH
BEGIN:VEVENT
DTSTART:20260428T190000Z
DTEND:20260428T210000Z
SUMMARY:ПСЖ - Байерн Мюнхен
DESCRIPTION:\nПо ТВ: MAX Sport 3\nhttps://machovetepotvdnes.com/match/pszh-vs-bayern-myunhen-2026-04-28
URL:https://machovetepotvdnes.com/match/pszh-vs-bayern-myunhen-2026-04-28
UID:match-pszh-vs-bayern-myunhen-2026-04-28@machovetepotvdnes.com
STATUS:CONFIRMED
END:VEVENT
END:VCALENDAR
