BEGIN:VCALENDAR
VERSION:2.0
PRODID:-//machovetepotvdnes.com//Football TV Calendar//BG
CALSCALE:GREGORIAN
METHOD:PUBLISH
BEGIN:VEVENT
DTSTART:20260424T183000Z
DTEND:20260424T203000Z
SUMMARY:РБ Лайпциг - Унион Берлин
DESCRIPTION:\nПо ТВ: Diema Sport 3\nhttps://machovetepotvdnes.com/match/rb-layptsig-vs-union-berlin-2026-04-24
URL:https://machovetepotvdnes.com/match/rb-layptsig-vs-union-berlin-2026-04-24
UID:match-rb-layptsig-vs-union-berlin-2026-04-24@machovetepotvdnes.com
STATUS:CONFIRMED
END:VEVENT
END:VCALENDAR
