BEGIN:VCALENDAR
VERSION:2.0
PRODID:-//machovetepotvdnes.com//Football TV Calendar//BG
CALSCALE:GREGORIAN
METHOD:PUBLISH
BEGIN:VEVENT
DTSTART:20260424T163000Z
DTEND:20260424T183000Z
SUMMARY:Спартак (Варна) - Берое
DESCRIPTION:\nПо ТВ: Diema Sport\nhttps://machovetepotvdnes.com/match/spartak-varna-vs-beroe-2026-04-24
URL:https://machovetepotvdnes.com/match/spartak-varna-vs-beroe-2026-04-24
UID:match-spartak-varna-vs-beroe-2026-04-24@machovetepotvdnes.com
STATUS:CONFIRMED
END:VEVENT
END:VCALENDAR
