BEGIN:VCALENDAR
VERSION:2.0
PRODID:-//machovetepotvdnes.com//Football TV Calendar//BG
CALSCALE:GREGORIAN
METHOD:PUBLISH
BEGIN:VEVENT
DTSTART:20260429T160000Z
DTEND:20260429T180000Z
SUMMARY:ЦСКА - Лудогорец
DESCRIPTION:\nПо ТВ: Diema Sport\nhttps://machovetepotvdnes.com/match/tsska-vs-ludogorets-2026-04-29
URL:https://machovetepotvdnes.com/match/tsska-vs-ludogorets-2026-04-29
UID:match-tsska-vs-ludogorets-2026-04-29@machovetepotvdnes.com
STATUS:CONFIRMED
END:VEVENT
END:VCALENDAR
