BEGIN:VCALENDAR
VERSION:2.0
PRODID:-//machovetepotvdnes.com//Football TV Calendar//BG
CALSCALE:GREGORIAN
METHOD:PUBLISH
BEGIN:VEVENT
DTSTART:20260425T113000Z
DTEND:20260425T133000Z
SUMMARY:Уест Бромич - Ипсуич
DESCRIPTION:\nПо ТВ: Nova Sport\nhttps://machovetepotvdnes.com/match/uest-bromich-vs-ipsuich-2026-04-25
URL:https://machovetepotvdnes.com/match/uest-bromich-vs-ipsuich-2026-04-25
UID:match-uest-bromich-vs-ipsuich-2026-04-25@machovetepotvdnes.com
STATUS:CONFIRMED
END:VEVENT
END:VCALENDAR
