BEGIN:VCALENDAR
VERSION:2.0
PRODID:-//machovetepotvdnes.com//Football TV Calendar//BG
CALSCALE:GREGORIAN
METHOD:PUBLISH
BEGIN:VEVENT
DTSTART:20260425T184500Z
DTEND:20260425T204500Z
SUMMARY:Верона - Лече
DESCRIPTION:\nПо ТВ: MAX Sport 3\nhttps://machovetepotvdnes.com/match/verona-vs-leche-2026-04-25
URL:https://machovetepotvdnes.com/match/verona-vs-leche-2026-04-25
UID:match-verona-vs-leche-2026-04-25@machovetepotvdnes.com
STATUS:CONFIRMED
END:VEVENT
END:VCALENDAR
